BEGIN:VCALENDAR
VERSION:2.0
PRODID:-//Vignerons Bio Nouvelle-Aquitaine - ECPv6.15.17.1//NONSGML v1.0//EN
CALSCALE:GREGORIAN
METHOD:PUBLISH
X-WR-CALNAME:Vignerons Bio Nouvelle-Aquitaine
X-ORIGINAL-URL:https://www.vigneronsbionouvelleaquitaine.fr
X-WR-CALDESC:Évènements pour Vignerons Bio Nouvelle-Aquitaine
REFRESH-INTERVAL;VALUE=DURATION:PT1H
X-Robots-Tag:noindex
X-PUBLISHED-TTL:PT1H
BEGIN:VTIMEZONE
TZID:Europe/Paris
BEGIN:DAYLIGHT
TZOFFSETFROM:+0100
TZOFFSETTO:+0200
TZNAME:CEST
DTSTART:20250330T010000
END:DAYLIGHT
BEGIN:STANDARD
TZOFFSETFROM:+0200
TZOFFSETTO:+0100
TZNAME:CET
DTSTART:20251026T010000
END:STANDARD
BEGIN:DAYLIGHT
TZOFFSETFROM:+0100
TZOFFSETTO:+0200
TZNAME:CEST
DTSTART:20260329T010000
END:DAYLIGHT
BEGIN:STANDARD
TZOFFSETFROM:+0200
TZOFFSETTO:+0100
TZNAME:CET
DTSTART:20261025T010000
END:STANDARD
BEGIN:DAYLIGHT
TZOFFSETFROM:+0100
TZOFFSETTO:+0200
TZNAME:CEST
DTSTART:20270328T010000
END:DAYLIGHT
BEGIN:STANDARD
TZOFFSETFROM:+0200
TZOFFSETTO:+0100
TZNAME:CET
DTSTART:20271031T010000
END:STANDARD
END:VTIMEZONE
BEGIN:VEVENT
DTSTART;TZID=Europe/Paris:20260420T110000
DTEND;TZID=Europe/Paris:20260420T190000
DTSTAMP:20260420T022145
CREATED:20260203T121007Z
LAST-MODIFIED:20260203T121007Z
UID:5325-1776682800-1776711600@www.vigneronsbionouvelleaquitaine.fr
SUMMARY:BtoBio : dégustation professionnelle vins Bio
DESCRIPTION:Prêts-es pour une nouvelle édition du BtoBio ? \nVenez à la rencontre d’une trentaine de vignerons Bio de Nouvelle-Aquitaine\, deuxième région productrice de vins Bio en France. Bordeaux bouge\, Bergerac aussi\, sans compter les vignobles d’Irouleguy\, de Jurançon\, de Duras\, et du Nord de la Région : la grande variété de vins Bio néo-aquitains est à déguster le lundi 20 avril prochain\, sans faute ! \nRouge\, blanc\, rosé\, crémant\, vin orange\, sans sulfites\, cuvées éphémères\, vous trouverez forcément votre bonheur ! \nC’est une opportunité de rencontrer\, en un seul lieu\, des vignerons passionnés aux profils variés\, et de découvrir des cuvées originales à forte identité\, prêtes à enrichir vos sélections. \n👉Vous êtes un vigneron Bio\, et pas encore inscrits … Ne tardez plus\, fin des inscriptions le 16 mars 2026 ! ⏳\nPour tout renseignement – contact@vigneronsbionouvelleaquitaine.fr \n👉Vous êtes un professionnel\, l’inscription est gratuite et conseillée : https://www.helloasso.com/associations/vignerons-bio-nouvelle-aquitaine/evenements/btobio-degustation-professionnelle-vin-bio \nInfos pratiques : \n\nLundi 20 avril 2026\nDe 11h à 19h\n8 Place de la Bourse\, Bordeaux – France\nRéservé aux professionnels*\n\n*Dégustation réservée en priorité aux acheteurs professionnels. Nous accueillerons avec plaisir les autres professionnels de la filière (étudiant\, œnologue..) et la presse\, sous réserve de disponibilité. \nL’abus d’alcool est dangereux pour la santé. Consommez avec modération. 
URL:https://www.vigneronsbionouvelleaquitaine.fr/event/btobio-degustation-professionnelle-vins-bio/
LOCATION:8 Place de la Bourse\, 8 Place de la Bourse\, Bordeaux\, 33 000\, France
END:VEVENT
END:VCALENDAR