BEGIN:VCALENDAR
VERSION:2.0
PRODID:-//Vignerons Bio Nouvelle-Aquitaine - ECPv6.15.17.1//NONSGML v1.0//EN
CALSCALE:GREGORIAN
METHOD:PUBLISH
X-ORIGINAL-URL:https://www.vigneronsbionouvelleaquitaine.fr
X-WR-CALDESC:Évènements pour Vignerons Bio Nouvelle-Aquitaine
REFRESH-INTERVAL;VALUE=DURATION:PT1H
X-Robots-Tag:noindex
X-PUBLISHED-TTL:PT1H
BEGIN:VTIMEZONE
TZID:Europe/Paris
BEGIN:DAYLIGHT
TZOFFSETFROM:+0100
TZOFFSETTO:+0200
TZNAME:CEST
DTSTART:20230326T010000
END:DAYLIGHT
BEGIN:STANDARD
TZOFFSETFROM:+0200
TZOFFSETTO:+0100
TZNAME:CET
DTSTART:20231029T010000
END:STANDARD
BEGIN:DAYLIGHT
TZOFFSETFROM:+0100
TZOFFSETTO:+0200
TZNAME:CEST
DTSTART:20240331T010000
END:DAYLIGHT
BEGIN:STANDARD
TZOFFSETFROM:+0200
TZOFFSETTO:+0100
TZNAME:CET
DTSTART:20241027T010000
END:STANDARD
BEGIN:DAYLIGHT
TZOFFSETFROM:+0100
TZOFFSETTO:+0200
TZNAME:CEST
DTSTART:20250330T010000
END:DAYLIGHT
BEGIN:STANDARD
TZOFFSETFROM:+0200
TZOFFSETTO:+0100
TZNAME:CET
DTSTART:20251026T010000
END:STANDARD
END:VTIMEZONE
BEGIN:VEVENT
DTSTART;VALUE=DATE:20241126
DTEND;VALUE=DATE:20241129
DTSTAMP:20260421T212619
CREATED:20241108T092917Z
LAST-MODIFIED:20241108T092917Z
UID:4858-1732579200-1732838399@www.vigneronsbionouvelleaquitaine.fr
SUMMARY:Salon VINITECH-SIFEL
DESCRIPTION:Vinitech Sifel à Bordeaux est un salon professionnel international majeur axé sur l’industrie du vin\, de l’arboriculture et de l’horticulture. Cet événement\, organisé par Beam – Bordeaux Events And More\, se tient tous les deux ans au Parc des Expositions et attire des professionnels du monde entier.. \nVignerons Bio Nouvelle-Aquitaine est partenaire de cet évènement\, nous serons présents sur le stand 2110 allée D Hall 1 et également intervenants sur de nombreux sujets de conférence.  \nPlus de 750 exposants de plus de 80 pays présentent lors de Vinitech Sifel les produits et services les plus récents. L’offre va des méthodes de culture avancées aux machines et techniques spécialement conçues pour la production de vin\, de fruits et de légumes. \nDe plus\, le salon comprend un programme riche de conférences et de forums avec plus de 100 intervenants qui abordent des thèmes actuels tels que le changement climatique\, les pratiques durables et les tendances du marché. Cela favorise l’échange de connaissances\, la formation continue et le réseautage entre les professionnels attendus. \nLa Vinitech Sifel contribue de manière significative à l’agriculture mondiale et renforce le rôle de Bordeaux et de la France en tant que centres leaders d’innovation agricole. Avec d’excellentes connexions de transport\, le Parc des Expositions offre un accès facile aux visiteurs internationaux\, faisant de cet événement un point de rencontre central pour ceux qui s’intéressent aux dernières avancées dans les secteurs concernés.
URL:https://www.vigneronsbionouvelleaquitaine.fr/event/salon-vinitech-sifel/
LOCATION:Parc expo de Bordeaux
CATEGORIES:Professionnel
ATTACH;FMTTYPE=image/jpeg:https://www.vigneronsbionouvelleaquitaine.fr/wp-content/uploads/2024/11/FEED_INSTA.jpg
END:VEVENT
END:VCALENDAR