BEGIN:VCALENDAR
VERSION:2.0
PRODID:-//Vignerons Bio Nouvelle-Aquitaine - ECPv6.15.17.1//NONSGML v1.0//EN
CALSCALE:GREGORIAN
METHOD:PUBLISH
X-ORIGINAL-URL:https://www.vigneronsbionouvelleaquitaine.fr
X-WR-CALDESC:Évènements pour Vignerons Bio Nouvelle-Aquitaine
REFRESH-INTERVAL;VALUE=DURATION:PT1H
X-Robots-Tag:noindex
X-PUBLISHED-TTL:PT1H
BEGIN:VTIMEZONE
TZID:Europe/Paris
BEGIN:DAYLIGHT
TZOFFSETFROM:+0100
TZOFFSETTO:+0200
TZNAME:CEST
DTSTART:20240331T010000
END:DAYLIGHT
BEGIN:STANDARD
TZOFFSETFROM:+0200
TZOFFSETTO:+0100
TZNAME:CET
DTSTART:20241027T010000
END:STANDARD
BEGIN:DAYLIGHT
TZOFFSETFROM:+0100
TZOFFSETTO:+0200
TZNAME:CEST
DTSTART:20250330T010000
END:DAYLIGHT
BEGIN:STANDARD
TZOFFSETFROM:+0200
TZOFFSETTO:+0100
TZNAME:CET
DTSTART:20251026T010000
END:STANDARD
BEGIN:DAYLIGHT
TZOFFSETFROM:+0100
TZOFFSETTO:+0200
TZNAME:CEST
DTSTART:20260329T010000
END:DAYLIGHT
BEGIN:STANDARD
TZOFFSETFROM:+0200
TZOFFSETTO:+0100
TZNAME:CET
DTSTART:20261025T010000
END:STANDARD
END:VTIMEZONE
BEGIN:VEVENT
DTSTART;TZID=Europe/Paris:20250210T090000
DTEND;TZID=Europe/Paris:20250212T170000
DTSTAMP:20260421T163900
CREATED:20240723T100115Z
LAST-MODIFIED:20240723T100115Z
UID:4825-1739178000-1739379600@www.vigneronsbionouvelleaquitaine.fr
SUMMARY:WineParis 2025
DESCRIPTION:Le prochain salon professionnel des vins\, WINE PARIS 2025 approche !\nNos vignerons seront présents pour représenter les couleurs de la Bio sous la bannière des Vignerons Bio Nouvelle-Aquitaine avec une 30aine d’exposants et un nouvel espace Free Tasting de 40 échantillons afin de découvrir les pépites de notre région. \nRDV du 10 au 12 Février 2025 au PARC EXPO PORTE DE VERSAILLES\, Paris.
URL:https://www.vigneronsbionouvelleaquitaine.fr/event/wineparis-2025/
LOCATION:Parc expo porte de Versailles\, Paris
CATEGORIES:Professionnel
ATTACH;FMTTYPE=image/jpeg:https://www.vigneronsbionouvelleaquitaine.fr/wp-content/uploads/2024/07/WP25-BannerWeb-FR-1200x150-1.jpg
END:VEVENT
END:VCALENDAR