BEGIN:VCALENDAR
VERSION:2.0
PRODID:-//Vignerons Bio Nouvelle-Aquitaine - ECPv6.15.17.1//NONSGML v1.0//EN
CALSCALE:GREGORIAN
METHOD:PUBLISH
X-ORIGINAL-URL:https://www.vigneronsbionouvelleaquitaine.fr
X-WR-CALDESC:Évènements pour Vignerons Bio Nouvelle-Aquitaine
REFRESH-INTERVAL;VALUE=DURATION:PT1H
X-Robots-Tag:noindex
X-PUBLISHED-TTL:PT1H
BEGIN:VTIMEZONE
TZID:Europe/Paris
BEGIN:DAYLIGHT
TZOFFSETFROM:+0100
TZOFFSETTO:+0200
TZNAME:CEST
DTSTART:20230326T010000
END:DAYLIGHT
BEGIN:STANDARD
TZOFFSETFROM:+0200
TZOFFSETTO:+0100
TZNAME:CET
DTSTART:20231029T010000
END:STANDARD
BEGIN:DAYLIGHT
TZOFFSETFROM:+0100
TZOFFSETTO:+0200
TZNAME:CEST
DTSTART:20240331T010000
END:DAYLIGHT
BEGIN:STANDARD
TZOFFSETFROM:+0200
TZOFFSETTO:+0100
TZNAME:CET
DTSTART:20241027T010000
END:STANDARD
BEGIN:DAYLIGHT
TZOFFSETFROM:+0100
TZOFFSETTO:+0200
TZNAME:CEST
DTSTART:20250330T010000
END:DAYLIGHT
BEGIN:STANDARD
TZOFFSETFROM:+0200
TZOFFSETTO:+0100
TZNAME:CET
DTSTART:20251026T010000
END:STANDARD
END:VTIMEZONE
BEGIN:VEVENT
DTSTART;TZID=Europe/Paris:20240401T080000
DTEND;TZID=Europe/Paris:20240418T170000
DTSTAMP:20260424T095733
CREATED:20231228T140429Z
LAST-MODIFIED:20231228T141745Z
UID:3974-1711958400-1713459600@www.vigneronsbionouvelleaquitaine.fr
SUMMARY:BTOBIO BORDEAUX 2024
DESCRIPTION:10 années déjà que Vignerons Bio Nouvelle-Aquitaine organise son BtoBio à Bordeaux.\nUn rendez-vous incontournable organisé par des professionnels pour des professionnels.\nCette journée est l’occasion pour les vignerons BIO néo-aquitains de :\nPrésenter leurs derniers millésimes mais également tous leurs livrables.\nMettre en avant la diversité des vins néo-aquitains auprès des bars à vins\, acheteurs du secteur CHR\, magasins spécialisés\, grossistes
URL:https://www.vigneronsbionouvelleaquitaine.fr/event/btobio-bordeaux-2024/
CATEGORIES:Professionnel
ATTACH;FMTTYPE=image/jpeg:https://www.vigneronsbionouvelleaquitaine.fr/wp-content/uploads/2023/12/BtoBio-Bordeaux.jpeg
END:VEVENT
END:VCALENDAR