BEGIN:VCALENDAR
VERSION:2.0
PRODID:-//Vignerons Bio Nouvelle-Aquitaine - ECPv6.15.17.1//NONSGML v1.0//EN
CALSCALE:GREGORIAN
METHOD:PUBLISH
X-ORIGINAL-URL:https://www.vigneronsbionouvelleaquitaine.fr
X-WR-CALDESC:Évènements pour Vignerons Bio Nouvelle-Aquitaine
REFRESH-INTERVAL;VALUE=DURATION:PT1H
X-Robots-Tag:noindex
X-PUBLISHED-TTL:PT1H
BEGIN:VTIMEZONE
TZID:Europe/Paris
BEGIN:DAYLIGHT
TZOFFSETFROM:+0100
TZOFFSETTO:+0200
TZNAME:CEST
DTSTART:20230326T010000
END:DAYLIGHT
BEGIN:STANDARD
TZOFFSETFROM:+0200
TZOFFSETTO:+0100
TZNAME:CET
DTSTART:20231029T010000
END:STANDARD
BEGIN:DAYLIGHT
TZOFFSETFROM:+0100
TZOFFSETTO:+0200
TZNAME:CEST
DTSTART:20240331T010000
END:DAYLIGHT
BEGIN:STANDARD
TZOFFSETFROM:+0200
TZOFFSETTO:+0100
TZNAME:CET
DTSTART:20241027T010000
END:STANDARD
BEGIN:DAYLIGHT
TZOFFSETFROM:+0100
TZOFFSETTO:+0200
TZNAME:CEST
DTSTART:20250330T010000
END:DAYLIGHT
BEGIN:STANDARD
TZOFFSETFROM:+0200
TZOFFSETTO:+0100
TZNAME:CET
DTSTART:20251026T010000
END:STANDARD
END:VTIMEZONE
BEGIN:VEVENT
DTSTART;TZID=Europe/Paris:20240530T093000
DTEND;TZID=Europe/Paris:20240530T120000
DTSTAMP:20260424T073230
CREATED:20231228T140716Z
LAST-MODIFIED:20240521T103931Z
UID:3976-1717061400-1717070400@www.vigneronsbionouvelleaquitaine.fr
SUMMARY:CONCOURS EXPRESSION DES VIGNERONS BIO NOUVELLE-AQUITAINE
DESCRIPTION:Le Concours Expression Vignerons Bio\, reconnu par la DREETS\, est une tradition de plus de 20 ans. Exclusivement dédié aux vins 100 % Bio de la région\, il distingue les itinéraires bas intrants\, avec une catégorie spécifique « Sans SO2 ajouté ». Ce concours met en lumière la promotion des vins Bio\, soulignant le respect de l’environnement et l’engagement constant des vignerons pour l’évolution de la filière\, notamment à travers des recherches sur des sujets techniques comme les vins sans sulfites ajoutés ou la réduction d’intrants. Il englobe toutes les appellations de la région où la Bio est devenue un acteur majeur\, avec des pourcentages significatifs de surfaces engagées en Bio\, et s’inscrit dans la nouvelle campagne de communication du CIVB. Les vignerons Bio défendent leur philosophie avec vigueur\, refusant l’usage des herbicides et des produits de synthèse\, et travaillent ardemment pour valoriser leurs produits à leur juste valeur. Ces vins Bio\, porteurs de valeurs techniques\, qualitatives\, morales et sociétales\, seront évalués par des experts de la filière\, lors du concours\, et nous les remercions pour leur précieuse contribution.
URL:https://www.vigneronsbionouvelleaquitaine.fr/event/concours-expression-des-vignerons-bio-nouvelle-aquitaine/
CATEGORIES:Professionnel
ATTACH;FMTTYPE=image/jpeg:https://www.vigneronsbionouvelleaquitaine.fr/wp-content/uploads/2024/05/CONCOURS-24-Bandeau-Web-scaled.jpg
END:VEVENT
END:VCALENDAR